BEGIN:VCALENDAR
VERSION:2.0
PRODID:-//SVP Bezirk Dielsdorf //NONSGML Events //EN
CALSCALE:GREGORIAN
X-WR-CALNAME:SVP Bezirk Dielsdorf
BEGIN:VEVENT
CREATED:20241215T143712Z
UID:2067
DTEND:20250325T190000
DTSTART:20250325T183000
DTSTAMP:20260419T172454Z
LOCATION:Bezirk Uster
DESCRIPTION:
SUMMARY:Delegiertenversammlung der SVP des Kantons Zürich
ORGANIZER:SVP Kanton Zürich
URL;VALUE=URI:https://www.svp-bezirk-dielsdorf.ch/termine/delegiertenversammlung-der-svp-des-kantons-zuerich-3/
TRANSP:OPAQUE
END:VEVENT
END:VCALENDAR
