BEGIN:VCALENDAR
VERSION:2.0
PRODID:-//SVP Bezirk Dielsdorf //NONSGML Events //EN
CALSCALE:GREGORIAN
X-WR-CALNAME:SVP Bezirk Dielsdorf
BEGIN:VEVENT
CREATED:20250325T062459Z
UID:2081
DTEND:20250510T110000
DTSTART:20250510T100000
DTSTAMP:20260421T120624Z
LOCATION:
DESCRIPTION:Frühlingsmarkt, Stadel b. Niederglatt, mit Nationalrätin Barbara Ste
SUMMARY:Bezirk Dielsdorf / Stadel: SVP-Stand
ORGANIZER:
URL;VALUE=URI:https://www.svp-bezirk-dielsdorf.ch/termine/bezirk-dielsdorf-stadel-svp-stand/
TRANSP:OPAQUE
END:VEVENT
END:VCALENDAR
